BEGIN:VCALENDAR
VERSION:2.0
PRODID:-//ChamberMaster//Event Calendar 2.0//EN
METHOD:PUBLISH
X-PUBLISHED-TTL:P3D
REFRESH-INTERVAL:P3D
CALSCALE:GREGORIAN
BEGIN:VEVENT
DTSTART:20201113T133000Z
DTEND:20201113T150000Z
X-MICROSOFT-CDO-ALLDAYEVENT:FALSE
SUMMARY:Virtual Friday sponsored by Kaplan CFO Solutions
DESCRIPTION:Please join us for a virtual Friday sponsored by Kaplan CFO Solutions.
X-ALT-DESC;FMTTYPE=text/html:<span style="font-size:16.0pt\;">Please join us for a virtual Friday sponsored by <span style="color:#0070C0\;">Kaplan CFO</span> <span style="color:#0070C0\;">Solutions</span>.</span>
LOCATION:Zoom Register here: https://us02web.zoom.us/webinar/register/WN_VRG4DN2DT1W2MlIU5yx14A
UID:e.1906.7546
SEQUENCE:3
DTSTAMP:20260424T215254Z
URL:https://www.kingsportchamber.org/events/details/virtual-friday-sponsored-by-kaplan-cfo-solutions-7546
END:VEVENT

END:VCALENDAR
