BEGIN:VCALENDAR
VERSION:2.0
PRODID:-//ChamberMaster//Event Calendar 2.0//EN
METHOD:PUBLISH
X-PUBLISHED-TTL:P3D
REFRESH-INTERVAL:P3D
CALSCALE:GREGORIAN
BEGIN:VEVENT
DTSTART:20260118T003000Z
DTEND:20260118T020000Z
X-MICROSOFT-CDO-ALLDAYEVENT:FALSE
SUMMARY:Twitty & Lynn: A Salute to Conway & Loretta at the Niswonger Performing Arts Center
DESCRIPTION:There's a moment right at the very beginning of any Twitty & Lynn show that affords country music fans the chance to look back in time. Just after the band has played the signature intro to "Louisiana Woman\, Mississippi Man\," Tre Twitty and Tayla Lynn shoot each other a glance that summons the electrifying chemistry of their grandparents: Tre is the grandson of Conway Twitty\, Tayla is the granddaughter of Loretta Lynn. Audiences can't believe their eyes. From that moment\, for the next 90 minutes\, they're in the presence of living country music history.\n\nThe duo credits their show's popularity to the timeless songs of Conway and Loretta   duets like "After the Fire Is Gone" and "You're the Reason Our Kids Are Ugly" are all in the set\, along with Conway and Loretta solo hits like "Hello\, Darlin'" and "Coal Miner's Daughter." But they're also giving audiences a chance to relive a moment in time that ended far too soon.\n\nCelebrate the music and legacy of country greats Conway Twitty and Loretta Lynn in this heartfelt tribute filled with beloved duets and unforgettable stories.
X-ALT-DESC;FMTTYPE=text/html:<p>There&rsquo\;s a moment right at the very beginning of any&nbsp\;Twitty &amp\; Lynn&nbsp\;show that affords country music fans the chance to look back in time. Just after the band has played the signature intro to&nbsp\;&ldquo\;Louisiana Woman\, Mississippi Man\,&rdquo\;&nbsp\;Tre Twitty and Tayla Lynn shoot each other a glance that summons the electrifying chemistry of their grandparents: Tre is the grandson of Conway Twitty\, Tayla is the granddaughter of Loretta Lynn. Audiences can&rsquo\;t believe their eyes. From that moment\, for the next 90 minutes\, they&rsquo\;re in the presence of living country music history.</p>\n\n<p>The duo credits their show&rsquo\;s popularity to the timeless songs of Conway and Loretta &mdash\; duets like&nbsp\;&ldquo\;After the Fire Is Gone&rdquo\;&nbsp\;and&nbsp\;&ldquo\;You&rsquo\;re the Reason Our Kids Are Ugly&rdquo\;&nbsp\;are all in the set\, along with Conway and Loretta solo hits like&nbsp\;&ldquo\;Hello\, Darlin&rsquo\;&rdquo\;&nbsp\;and&nbsp\;&ldquo\;Coal Miner&rsquo\;s Daughter.&rdquo\;&nbsp\;But they&rsquo\;re also giving audiences a chance to relive a moment in time that ended far too soon.</p>\n\n<p>Celebrate the music and legacy of country greats Conway Twitty and Loretta Lynn in this heartfelt tribute filled with beloved duets and unforgettable stories.</p>\n
LOCATION:212 Tusculum Boulevard Greeneville\, TN 37745
UID:e.1906.9617
SEQUENCE:3
DTSTAMP:20260419T191108Z
URL:https://www.kingsportchamber.org/events/details/twitty-lynn-a-salute-to-conway-loretta-at-the-niswonger-performing-arts-center-9617
END:VEVENT

END:VCALENDAR
