BEGIN:VCALENDAR
VERSION:2.0
PRODID:-//ChamberMaster//Event Calendar 2.0//EN
METHOD:PUBLISH
X-PUBLISHED-TTL:P3D
REFRESH-INTERVAL:P3D
CALSCALE:GREGORIAN
BEGIN:VEVENT
DTSTART:20251215T000000Z
DTEND:20251215T013000Z
X-MICROSOFT-CDO-ALLDAYEVENT:FALSE
SUMMARY:Tommy Emmanuel CGP - Living In The Light Tour
DESCRIPTION:Hailed as "one of the best acoustic guitarists in the world" by NPR's World Cafe\, Tommy Emmanuel got his start at the age of six\, when he first began touring his native Australia with his family's band. As a teenager\, he earned a reputation as a highly sought after sideman and session player\, and by his early twenties\, Emmanuel was playing on chart-topping hits and performing with acts like Air Supply and Men at Work. Inspired in part by his hero\, Chet Atkins (who would later become a friend\, mentor\, and collaborator)\, Emmanuel stepped out on his own as a solo artist in 1979\, releasing the first in a string of acclaimed instrumental albums that would make him an unlikely celebrity in his home country and beyond. In the decades that followed\, he would go on to headline everywhere from the Sydney Opera House to Carnegie Hall\; tour with luminaries like Eric Clapton and John Denver\; win a Grammy Award for Best Instrumental Arrangement\; perform for a televised audience of more than two billion at the Sydney Olympics\; and collaborate with a who's who of fellow guitar greats\, including Les Paul\, Mark Knopfler\, Joe Walsh\, Richard Thompson\, Jason Isbell\, and Billy Strings.\n\nRecorded in just four days\, Emmanuel's latest album\, Living In The Light\, stands as the most daring and most rewarding collection in the globetrotting fingerpicker's remarkable catalog\, fusing his pop\, jazz\, classical\, and roots influences into a virtuosic masterwork as exhilarating as it is intimate.
X-ALT-DESC;FMTTYPE=text/html:<div>&nbsp\;</div>\n\n<div>\n<p><span style="font-size:12px">&nbsp\;</span>Hailed as &ldquo\;one of the best acoustic guitarists in the world&rdquo\; by <em>NPR</em>&rsquo\;s <em>World Cafe</em>\, Tommy Emmanuel got his start at the age of six\, when he first began touring his native Australia with his family&rsquo\;s band. As a teenager\, he earned a reputation as a highly sought after sideman and session player\, and by his early twenties\, Emmanuel was playing on chart-topping hits and performing with acts like Air Supply and Men at Work. Inspired in part by his hero\, Chet Atkins (who would later become a friend\, mentor\, and collaborator)\, Emmanuel stepped out on his own as a solo artist in 1979\, releasing the first in a string of acclaimed instrumental albums that would make him an unlikely celebrity in his home country and beyond. In the decades that followed\, he would go on to headline everywhere from the Sydney Opera House to Carnegie Hall\; tour with luminaries like Eric Clapton and John Denver\; win a Grammy Award for Best Instrumental Arrangement\; perform for a televised audience of more than two billion at the Sydney Olympics\; and collaborate with a who&rsquo\;s who of fellow guitar greats\, including Les Paul\, Mark Knopfler\, Joe Walsh\, Richard Thompson\, Jason Isbell\, and Billy Strings.</p>\n\n<p>Recorded in just four days\, Emmanuel&rsquo\;s latest album\, <em>Living In The Light</em>\, stands as the most daring&mdash\;and most rewarding&mdash\;collection in the globetrotting fingerpicker&rsquo\;s remarkable catalog\, fusing his pop\, jazz\, classical\, and roots influences into a virtuosic masterwork as exhilarating as it is intimate.</p>\n</div>\n
LOCATION:212 Tusculum Boulevard Greeneville\, TN 37745
UID:e.1906.9616
SEQUENCE:3
DTSTAMP:20260419T222242Z
URL:https://www.kingsportchamber.org/events/details/tommy-emmanuel-cgp-at-the-niswonger-performing-arts-center-9616
END:VEVENT

END:VCALENDAR
