BEGIN:VCALENDAR
VERSION:2.0
PRODID:-//ChamberMaster//Event Calendar 2.0//EN
METHOD:PUBLISH
X-PUBLISHED-TTL:P3D
REFRESH-INTERVAL:P3D
CALSCALE:GREGORIAN
BEGIN:VEVENT
DTSTART:20260131T003000Z
DTEND:20260131T020000Z
X-MICROSOFT-CDO-ALLDAYEVENT:FALSE
SUMMARY:Thunderstruck: America’s AC/DC Tribute at the Niswonger Performing Arts Center
DESCRIPTION:Thunderstruck: America's AC/DC Tribute gives fans so much more than the sound of AC/DC\, they truly capture the high voltage energy and experience. For fans\, it's about a sense of familiarity\, and it's about a feeling that snatches up listeners and takes over. It's about a contagious kind of power and electricity that few AC/DC tribute bands can provide!  \n\nFrom Tyler Melen's ridiculously non-stop on-stage performance replicating the Angus Young of the '70s and '80s\, to Bobby Lee Stamper's versatile vocals mimicking both Bon Scott and Brian Johnson ranges\, to the incredible rhythm section made up of Kevin Feller on rhythm guitar\, Corey Baetz on drums\, and Chris Jones on bass\, Thunderstruck gives a complete and consistently authentic live show as true to the spirit of AC/DC that you can possibly get! Thunderstruck: America's AC/DC tribute has performed tribute shows throughout the nation\, with a consistent record of sold-out shows from coast-to-coast.
X-ALT-DESC;FMTTYPE=text/html:<p>Thunderstruck: America&rsquo\;s AC/DC Tribute&nbsp\;gives fans so much more than the sound of AC/DC\, they truly capture the high voltage energy and experience. For fans\, it&rsquo\;s about a sense of familiarity\, and it&rsquo\;s about a feeling that snatches up listeners and takes over. It&rsquo\;s about a contagious kind of power and electricity that few AC/DC tribute bands can provide!&nbsp\;&nbsp\;</p>\n\n<p>From Tyler Melen&rsquo\;s ridiculously non-stop on-stage performance replicating the Angus Young of the &lsquo\;70s and &lsquo\;80s\, to Bobby Lee Stamper&rsquo\;s versatile vocals mimicking both Bon Scott and Brian Johnson ranges\, to the incredible rhythm section made up of Kevin Feller on rhythm guitar\, Corey Baetz on drums\, and Chris Jones on bass\, Thunderstruck gives a complete and consistently authentic live show as true to the spirit of AC/DC that you can possibly get! Thunderstruck: America&rsquo\;s AC/DC tribute has performed tribute shows throughout the nation\, with a consistent record of sold-out shows from coast-to-coast.</p>\n
LOCATION:212 Tusculum Boulevard Greeneville\, TN 37745
UID:e.1906.9619
SEQUENCE:3
DTSTAMP:20260419T190910Z
URL:https://www.kingsportchamber.org/events/details/thunderstruck-america-s-ac-dc-tribute-at-the-niswonger-performing-arts-center-9619
END:VEVENT

END:VCALENDAR
