BEGIN:VCALENDAR
VERSION:2.0
PRODID:-//ChamberMaster//Event Calendar 2.0//EN
METHOD:PUBLISH
X-PUBLISHED-TTL:P3D
REFRESH-INTERVAL:P3D
CALSCALE:GREGORIAN
BEGIN:VEVENT
DTSTART:20251208T000000Z
DTEND:20251208T013000Z
X-MICROSOFT-CDO-ALLDAYEVENT:FALSE
SUMMARY:The Oak Ridge Boys’ American Made Christmas Farewell Tour at the Niswonger Performing Arts Center
DESCRIPTION:For more than three decades\, The Oak Ridge Boys' Christmas tour has played to packed houses across North America. This year\, The Oak Ridge Boys' American Made Christmas Farewell Tour will be coming to you.\n\nThis year's musical extravaganza\, with its beautiful visuals\, falling snow\, and Christmas cheer will feature a variety of traditional and contemporary songs religious\, romantic\, and fun holiday tunes as well as some of the GRAMMY  Award-winning quartet's classic country-pop hit songs along with songs from the group's seven bestselling Christmas CDs.\n\nDon't miss this fun and inspirational family holiday tradition!
X-ALT-DESC;FMTTYPE=text/html:<p style="text-align:justify"><span style="background-color:transparent\; color:rgb(0\, 0\, 0)\; font-family:montserrat\,sans-serif\; font-size:9pt">For more than three decades\, </span><strong>The Oak Ridge Boys&rsquo\; </strong><span style="background-color:transparent\; color:rgb(0\, 0\, 0)\; font-family:montserrat\,sans-serif\; font-size:9pt">Christmas tour has played to packed houses across North America. This year\, </span><strong>The Oak Ridge Boys&rsquo\; American Made Christmas Farewell Tour</strong><span style="background-color:transparent\; color:rgb(0\, 0\, 0)\; font-family:montserrat\,sans-serif\; font-size:9pt"> will be coming to you.</span></p>\n\n<p style="text-align:justify"><span style="background-color:transparent\; color:rgb(0\, 0\, 0)\; font-family:montserrat\,sans-serif\; font-size:9pt">This year&rsquo\;s musical extravaganza\, with its beautiful visuals\, falling snow\, and Christmas cheer will feature a variety of traditional and contemporary songs&mdash\;religious\, romantic\, and fun holiday tunes&mdash\;as well as some of the GRAMMY&reg\; Award-winning quartet&rsquo\;s classic country-pop hit songs along with songs from the group&rsquo\;s seven bestselling Christmas CDs.</span></p>\n\n<p style="text-align:justify"><span style="background-color:transparent\; color:rgb(0\, 0\, 0)\; font-family:montserrat\,sans-serif\; font-size:9pt">Don&rsquo\;t miss this fun and inspirational family holiday tradition!</span></p>\n\n<div>&nbsp\;</div>\n
LOCATION:212 Tusculum Boulevard Greeneville\, TN 37745
UID:e.1906.9614
SEQUENCE:3
DTSTAMP:20260419T222418Z
URL:https://www.kingsportchamber.org/events/details/the-oak-ridge-boys-american-made-christmas-farewell-tour-at-the-niswonger-performing-arts-center-9614
END:VEVENT

END:VCALENDAR
