BEGIN:VCALENDAR
VERSION:2.0
PRODID:-//ChamberMaster//Event Calendar 2.0//EN
METHOD:PUBLISH
X-PUBLISHED-TTL:P3D
REFRESH-INTERVAL:P3D
CALSCALE:GREGORIAN
BEGIN:VEVENT
DTSTART:20260121T000000Z
DTEND:20260121T013000Z
X-MICROSOFT-CDO-ALLDAYEVENT:FALSE
SUMMARY:STOMP at the Niswonger Performing Arts Center
DESCRIPTION:STOMP is explosive\, inventive\, provocative\, witty\, and utterly unique an unforgettable experience for audiences of all ages! \n\nThe international percussion sensation has garnered armfuls of awards\, rave reviews\, and has appeared on numerous national television shows. The eight-member troupe uses everything but conventional percussion instruments   matchboxes\, wooden poles\, brooms\, garbage cans\, Zippo lighters\, hubcaps   to fill the stage with magnificent rhythms. \n\nYear after year\, audiences worldwide keep coming back for more of this pulse-pounding electrifying show. As the Boston Globe says\, "If you haven't seen STOMP\, GO! If you have seen it\, take someone and share the pleasure!" It's no wonder audiences across the globe return again and again\, STOMP is a heart-pounding\, high-energy celebration of rhythm you simply have to experience to believe. Don't miss your chance to see what all the noise is about!
X-ALT-DESC;FMTTYPE=text/html:<p>STOMP&nbsp\;is explosive\, inventive\, provocative\, witty\, and utterly unique&mdash\;an unforgettable experience for audiences of all ages!&nbsp\;</p>\n\n<p>The international percussion sensation has garnered armfuls of awards\, rave reviews\, and has appeared on numerous national television shows. The eight-member troupe uses everything but conventional percussion instruments &ndash\; matchboxes\, wooden poles\, brooms\, garbage cans\, Zippo lighters\, hubcaps &ndash\; to fill the stage with magnificent rhythms.&nbsp\;</p>\n\n<p>Year after year\, audiences worldwide keep coming back for more of this pulse-pounding electrifying show. As the&nbsp\;<em>Boston Globe</em>&nbsp\;says\, &ldquo\;If you haven&rsquo\;t seen STOMP\, GO! If you have seen it\, take someone and share the pleasure!&rdquo\; It&rsquo\;s no wonder audiences across the globe return again and again\, STOMP is a heart-pounding\, high-energy celebration of rhythm you simply have to experience to believe. Don&rsquo\;t miss your chance to see what all the noise is about!</p>\n
LOCATION:212 Tusculum Boulevard Greeneville\, TN 37745
UID:e.1906.9618
SEQUENCE:3
DTSTAMP:20260419T204710Z
URL:https://www.kingsportchamber.org/events/details/stomp-at-the-niswonger-performing-arts-center-9618
END:VEVENT

END:VCALENDAR
