BEGIN:VCALENDAR
VERSION:2.0
PRODID:-//ChamberMaster//Event Calendar 2.0//EN
METHOD:PUBLISH
X-PUBLISHED-TTL:P3D
REFRESH-INTERVAL:P3D
CALSCALE:GREGORIAN
BEGIN:VEVENT
DTSTART:20260501T160000Z
DTEND:20260501T163000Z
X-MICROSOFT-CDO-ALLDAYEVENT:FALSE
SUMMARY:Ribbon Cutting celebrating Tri City Shuttle
DESCRIPTION:
X-ALT-DESC;FMTTYPE=text/html:
LOCATION:This event will take place at Your Kingsport Chamber 400 Clinchfield Street\, Suite 100 Kingsport\, Tn 37660
UID:e.1906.9785
SEQUENCE:3
DTSTAMP:20260421T191804Z
URL:https://www.kingsportchamber.org/events/details/ribbon-cutting-celebrating-tri-city-shuttle-9785
END:VEVENT

END:VCALENDAR
