BEGIN:VCALENDAR
VERSION:2.0
PRODID:-//ChamberMaster//Event Calendar 2.0//EN
METHOD:PUBLISH
X-PUBLISHED-TTL:P3D
REFRESH-INTERVAL:P3D
CALSCALE:GREGORIAN
BEGIN:VEVENT
DTSTART:20251212T170000Z
DTEND:20251212T173000Z
X-MICROSOFT-CDO-ALLDAYEVENT:FALSE
SUMMARY:Ribbon Cutting celebrating Three Creeks Luxury Spa
DESCRIPTION:
X-ALT-DESC;FMTTYPE=text/html:
LOCATION:2505 South Wilcox Drive\, Suite 1
UID:e.1906.9710
SEQUENCE:3
DTSTAMP:20260419T204538Z
URL:https://www.kingsportchamber.org/events/details/ribbon-cutting-celebrating-three-creeks-luxury-spa-9710
END:VEVENT

END:VCALENDAR
