BEGIN:VCALENDAR
VERSION:2.0
PRODID:-//ChamberMaster//Event Calendar 2.0//EN
METHOD:PUBLISH
X-PUBLISHED-TTL:P3D
REFRESH-INTERVAL:P3D
CALSCALE:GREGORIAN
BEGIN:VEVENT
DTSTART:20251213T000000Z
DTEND:20251213T013000Z
X-MICROSOFT-CDO-ALLDAYEVENT:FALSE
SUMMARY:Natalie Grant & Danny Gokey: Celebrate Christmas Tour at the Niswonger Performing Arts Center
DESCRIPTION:This holiday season\, make plans to join Natalie Grant and Danny Gokey for the Celebrate Christmas Tour!\n\nFeaturing five-time GMA Female Vocalist of the Year\, Natalie Grant\, and GRAMMY  nominated and Dove Award Winner\, Danny Gokey\, this collaborative show with two world-class vocalists will feature all of the timeless classics that you would expect at Christmas.\n\nThis is the perfect holiday outing for the entire family\, so invite your friends & family members of every age\, and make this a Christmas tradition to remember. Join us as we celebrate the reason for the season this December!
X-ALT-DESC;FMTTYPE=text/html:<p>This holiday season\, make plans to join&nbsp\;Natalie Grant&nbsp\;and&nbsp\;Danny Gokey&nbsp\;for the&nbsp\;<em>Celebrate Christmas Tour</em>!</p>\n\n<p>Featuring five-time GMA Female Vocalist of the Year\, Natalie Grant\, and GRAMMY&reg\; nominated and Dove Award Winner\, Danny Gokey\, this collaborative show with two world-class vocalists will feature all of the timeless classics that you would expect at Christmas.</p>\n\n<p>This is the perfect holiday outing for the entire family\, so invite your friends &amp\; family members of every age\, and make this a Christmas tradition to remember. Join us as we celebrate the reason for the season this December!</p>\n
LOCATION:212 Tusculum Boulevard Greeneville\, TN 37745
UID:e.1906.9615
SEQUENCE:3
DTSTAMP:20260419T205556Z
URL:https://www.kingsportchamber.org/events/details/natalie-grant-danny-gokey-celebrate-christmas-tour-at-the-niswonger-performing-arts-center-9615
END:VEVENT

END:VCALENDAR
