BEGIN:VCALENDAR
VERSION:2.0
PRODID:-//ChamberMaster//Event Calendar 2.0//EN
METHOD:PUBLISH
X-PUBLISHED-TTL:P3D
REFRESH-INTERVAL:P3D
CALSCALE:GREGORIAN
BEGIN:VEVENT
DTSTART;VALUE=DATE:20251217
DTEND;VALUE=DATE:20251218
TRANSP:TRANSPARENT
X-MICROSOFT-CDO-ALLDAYEVENT:TRUE
SUMMARY:KING UNIVERSITY’S GRAMMY-WINNING TENOR AARON BLAKE TO HOST “A VERY BRISTOL CHRISTMAS” AT PARAMOUNT DEC. 17
DESCRIPTION:King University's Artist in Residence\, Grammy-winning tenor Aaron Blake\, hosts A Very Bristol Christmas at the Paramount Center\, Wednesday\, Dec. 17 at 7 p.m. The evening features classic and contemporary holiday selections from Handel's Messiah to Irving Berlin's White Christmas. Special guests include acclaimed musicians Kris Truelsen of Farm and Fun Time  and Radio Bristol\, and virtuoso cellist Dave Eggar & Bristol Lightning\, among many others. Tickets start at $15 and are available at the Paramount box office. For more information\, visit www.paramountbristol.org.
X-ALT-DESC;FMTTYPE=text/html:<span style="font-family:arial\,sans-serif\;"><span style="font-size:9pt\;">King University&rsquo\;s Artist in Residence\, Grammy-winning tenor Aaron Blake\, hosts&nbsp\;<em>A Very Bristol Christmas&nbsp\;</em>at the Paramount Center\, Wednesday\, Dec. 17 at 7 p.m. The evening features classic and contemporary holiday selections from Handel&rsquo\;s&nbsp\;<em>Messiah</em>&nbsp\;to Irving Berlin&rsquo\;s&nbsp\;<em>White Christmas.&nbsp\;</em>Special guests include acclaimed musicians Kris Truelsen of Farm and Fun Time&reg\; and Radio Bristol\, and virtuoso cellist Dave Eggar &amp\; Bristol Lightning\, among many others. Tickets start at $15 and are available at the Paramount box office. For more information\, visit&nbsp\;</span></span><span style="font-size:12.0pt\;"><a href="http://www.paramountbristol.org"><span style="font-family:arial\,sans-serif\;"><span style="font-size:9.0pt\;">www.paramountbristol.org</span></span></a></span><span style="font-family:arial\,sans-serif\;"><span style="font-size:9pt\;">.</span></span>&nbsp\;
LOCATION:
UID:e.1906.9682
SEQUENCE:3
DTSTAMP:20260419T204814Z
URL:https://www.kingsportchamber.org/events/details/king-university-s-grammy-winning-tenor-aaron-blake-to-host-a-very-bristol-christmas-at-paramount-dec-17-9682
END:VEVENT

END:VCALENDAR
