BEGIN:VCALENDAR
VERSION:2.0
PRODID:-//ChamberMaster//Event Calendar 2.0//EN
METHOD:PUBLISH
X-PUBLISHED-TTL:P3D
REFRESH-INTERVAL:P3D
CALSCALE:GREGORIAN
BEGIN:VEVENT
DTSTART:20260210T000000Z
DTEND:20260210T013000Z
X-MICROSOFT-CDO-ALLDAYEVENT:FALSE
SUMMARY:Dean Z: The Ultimate Elvis at the Niswonger Performing Arts Center
DESCRIPTION:Back by popular demand! Dean Z   The Ultimate Elvis returns to NPAC with a musical journey spanning the 20-year career of the "King of Rock 'n' Roll\," from his rise to fame in the 1950s to his legendary Las Vegas performances of the 1970s. Backed by a powerhouse 11-piece band\, horn section\, dynamic background vocalists\, and immersive video content\, this show delivers an unforgettable concert experience.\n\nFor nearly two decades\, Dean Z has performed thousands of shows for millions of fans worldwide. In 2013\, Elvis Presley Enterprises (EPE) named him the world's greatest Elvis tribute artist\, officially awarding him the "Ultimate" title. He went on to star in the international touring production Elvis Lives\, which sold over 500\,000 tickets.\n\nDean Z has wowed sold-out audiences in iconic UK venues such as the London Apollo\, Manchester Arena\, and The Echo in Liverpool. He is the only Elvis tribute artist to host SiriusXM's Elvis Radio and currently serves as an ambassador and contributor to Graceland and the Elvis Presley estate.
X-ALT-DESC;FMTTYPE=text/html:<p>Back by popular demand!&nbsp\;Dean Z &ndash\; The Ultimate Elvis&nbsp\;returns to NPAC with a musical journey spanning the 20-year career of the &ldquo\;King of Rock &rsquo\;n&rsquo\; Roll\,&rdquo\; from his rise to fame in the 1950s to his legendary Las Vegas performances of the 1970s. Backed by a powerhouse 11-piece band\, horn section\, dynamic background vocalists\, and immersive video content\, this show delivers an unforgettable concert experience.</p>\n\n<p>For nearly two decades\, Dean Z has performed thousands of shows for millions of fans worldwide. In 2013\, Elvis Presley Enterprises (EPE) named him the world&rsquo\;s greatest Elvis tribute artist\, officially awarding him the &ldquo\;Ultimate&rdquo\; title. He went on to star in the international touring production&nbsp\;<em>Elvis Lives</em>\, which sold over 500\,000 tickets.</p>\n\n<p>Dean Z has wowed sold-out audiences in iconic UK venues such as the London Apollo\, Manchester Arena\, and The Echo in Liverpool. He is the only Elvis tribute artist to host SiriusXM&rsquo\;s Elvis Radio and currently serves as an ambassador and contributor to Graceland and the Elvis Presley estate.</p>\n
LOCATION:212 Tusculum Boulevard Greeneville\, TN 37745
UID:e.1906.9621
SEQUENCE:3
DTSTAMP:20260419T191349Z
URL:https://www.kingsportchamber.org/events/details/dean-z-the-ultimate-elvis-at-the-niswonger-performing-arts-center-02-09-2026-9621
END:VEVENT

END:VCALENDAR
