BEGIN:VCALENDAR
VERSION:2.0
PRODID:-//ChamberMaster//Event Calendar 2.0//EN
METHOD:PUBLISH
X-PUBLISHED-TTL:P3D
REFRESH-INTERVAL:P3D
CALSCALE:GREGORIAN
BEGIN:VEVENT
DTSTART:20260410T123000Z
DTEND:20260410T133000Z
X-MICROSOFT-CDO-ALLDAYEVENT:FALSE
SUMMARY:Chamber Business Breakfast sponsored by St. Dominic Catholic School
DESCRIPTION:
X-ALT-DESC;FMTTYPE=text/html:
LOCATION:Saint Dominic Catholic School 1474 East Center Street
UID:e.1906.9761
SEQUENCE:3
DTSTAMP:20260419T135438Z
URL:https://www.kingsportchamber.org/events/details/chamber-business-breakfast-sponsored-by-st-dominic-catholic-school-9761
END:VEVENT

END:VCALENDAR
