BEGIN:VCALENDAR
VERSION:2.0
PRODID:-//ChamberMaster//Event Calendar 2.0//EN
METHOD:PUBLISH
X-PUBLISHED-TTL:P3D
REFRESH-INTERVAL:P3D
CALSCALE:GREGORIAN
BEGIN:VEVENT
DTSTART:20260227T130000Z
DTEND:20260227T143000Z
X-MICROSOFT-CDO-ALLDAYEVENT:FALSE
SUMMARY:Chamber Business Breakfast sponsored by Ballad Health
DESCRIPTION:Join us for a Chamber Business Breakfast sponsored by Ballad Health!\n\n\n\nThis event will be held in conjunction with the Kids Business Expo.
X-ALT-DESC;FMTTYPE=text/html:Join us for a Chamber Business Breakfast sponsored by Ballad Health!<br />\n<br />\nThis event will be held in conjunction with the Kids Business Expo.
LOCATION:MeadowView Marriott Grand Ballroom
UID:e.1906.9729
SEQUENCE:3
DTSTAMP:20260419T192530Z
URL:https://www.kingsportchamber.org/events/details/chamber-business-breakfast-sponsored-by-ballad-health-9729
END:VEVENT

END:VCALENDAR
