BEGIN:VCALENDAR
VERSION:2.0
PRODID:-//ChamberMaster//Event Calendar 2.0//EN
METHOD:PUBLISH
X-PUBLISHED-TTL:P3D
REFRESH-INTERVAL:P3D
CALSCALE:GREGORIAN
BEGIN:VEVENT
DTSTART:20260605T220000Z
DTEND:20260606T010000Z
X-MICROSOFT-CDO-ALLDAYEVENT:FALSE
SUMMARY:Boys & Girls Club of Greater Kingsport Night of Champions
DESCRIPTION:Modeled after the ESPN ESPYS\, The Night of Champions brings together high school athletes\, coaches\, school staff\, family members\, community leaders\, and partners for an unforgettable evening of recognition and inspiration. Nominations are submitted by coaches\, athletic directors\, and school employees across 10 award categories\, with finalists selected by an independent panel of local sports journalists. The top three finalists in each category are invited to attend the event\, where one will be named the winner on the night for each category.\n\n\n\nA two-time back-to-back SEC Player of the Year and First Vice President of the National Basketball Players Association\, Grant Williams is a leader on and off the court. A former Dallas Mavericks and Boston Celtics player\, Williams\, currently plays Power Forward for the Charlotte Hornets. He graduated from the University of Tennessee in just three years with a degree in supply chain management   one of the top public programs in the country for that field. Williams has been recognized as a passionate advocate for leadership\, teamwork\, mental health awareness\, gender equality\, and giving back to the community.\n\nWilliams is perhaps best known off the court for his deep commitment to empowering young people. He created a group mentoring program for youth and received the prestigious Bill Russell Mentoring Award for his work. His energy\, humor\, storytelling\, and willingness to be vulnerable make him a natural fit for an evening dedicated to the next generation of leaders   student athletes who are writing their own stories of hard work and heart.
X-ALT-DESC;FMTTYPE=text/html:<span style="color:#53565A"><span style="font-family:franklin gothic book\,sans-serif"><span style="font-size:10.0pt">Modeled after the ESPN ESPYS\, <strong>The Night of Champions</strong> brings together high school athletes\, coaches\, school staff\, family members\, community leaders\, and partners for an unforgettable evening of recognition and inspiration. Nominations are submitted by coaches\, athletic directors\, and school employees across 10 award categories\, with finalists selected by an independent panel of local sports journalists. The top three finalists in each category are invited to attend the event\, where one will be named the winner on the night for each category.<br />\n<br />\nA two-time back-to-back SEC Player of the Year and First Vice President of the National Basketball Players Association\, Grant Williams is a leader on and off the court. A former Dallas Mavericks and Boston Celtics player\, Williams\, currently plays Power Forward for the Charlotte Hornets. He graduated from the University of Tennessee in just three years with a degree in supply chain management &mdash\; one of the top public programs in the country for that field. Williams has been recognized as a passionate advocate for leadership\, teamwork\, mental health awareness\, gender equality\, and giving back to the community.</span></span></span><br />\n<span style="color:#53565A"><span style="font-family:franklin gothic book\,sans-serif"><span style="font-size:10.0pt">Williams is perhaps best known off the court for his deep commitment to empowering young people. He created a group mentoring program for youth and received the prestigious Bill Russell Mentoring Award for his work. His energy\, humor\, storytelling\, and willingness to be vulnerable make him a natural fit for an evening dedicated to the next generation of leaders &mdash\; student athletes who are writing their own stories of hard work and heart.</span></span></span><br />\n&nbsp\;
LOCATION:Meadowview Conference Center and Resort 1901 Meadowview Pkwy\, Kingsport\, TN
UID:e.1906.9786
SEQUENCE:3
DTSTAMP:20260424T135453Z
URL:https://www.kingsportchamber.org/events/details/boys-girls-club-of-greater-kingsport-night-of-champions-06-05-2026-9786
END:VEVENT

END:VCALENDAR
