BEGIN:VCALENDAR
VERSION:2.0
PRODID:-//ChamberMaster//Event Calendar 2.0//EN
METHOD:PUBLISH
X-PUBLISHED-TTL:P3D
REFRESH-INTERVAL:P3D
CALSCALE:GREGORIAN
BEGIN:VEVENT
DTSTART:20251121T000000Z
DTEND:20251121T013000Z
X-MICROSOFT-CDO-ALLDAYEVENT:FALSE
SUMMARY:Atlanta Rhythm Section & Orleans at the Niswonger Performing Arts Center
DESCRIPTION:Atlanta Rhythm Section has entertained audiences all over the world with their many Top 10 hits. Along with contemporaries like Lynyrd Skynyrd\, they carry the mantle of "Southern Rock\," but by performing more musically diverse hits with a softer\, pop flavor. They have a sound all their own. Hits include "So Into You\,"  "Imaginary Lover\," "Champagne Jam\," "Doraville\," "I'm Not Gonna Let It Bother Me Tonight\," "Do It Or Die\," and "Spooky."\nOrleans is best known as the Pop/Rock band that brought you the classic '70s hits "Still The One\," "Dance With Me\," and "Love Takes Time." Now in their 53rd year\, Orleans has produced a body of work spanning 17+ albums and 4 DVDs. The band continues to be in demand for live performances\, as they have been for the past 5 decades. Led by co-founder Lance Hoppen\, brother and long-standing member Lane Hoppen\, with relative newcomers Brady Spencer\, Tom Lane\, and Tony Hooper comprise the touring band\, delivering Orleans' music with power\, class\, and integrity to appreciative audiences everywhere.
X-ALT-DESC;FMTTYPE=text/html:<p style="text-align:justify"><strong>Atlanta Rhythm Section</strong><span style="background-color:transparent\; color:rgb(0\, 0\, 0)\; font-family:montserrat\,sans-serif\; font-size:9pt"> has entertained audiences all over the world with their many Top 10 hits. Along with contemporaries like Lynyrd Skynyrd\, they carry the mantle of &ldquo\;Southern Rock\,&rdquo\; but by performing more musically diverse hits with a softer\, pop flavor. They have a sound all their own. Hits include </span><strong>&ldquo\;So Into You\,&rdquo\;&nbsp\; &ldquo\;Imaginary Lover\,&rdquo\; &ldquo\;Champagne Jam\,&rdquo\; &ldquo\;Doraville\,&rdquo\; &ldquo\;I&rsquo\;m Not Gonna Let It Bother Me Tonight\,&rdquo\; &ldquo\;Do It Or Die\,&rdquo\;</strong><span style="background-color:transparent\; color:rgb(0\, 0\, 0)\; font-family:montserrat\,sans-serif\; font-size:9pt"> and </span><strong>&ldquo\;Spooky.&rdquo\;</strong></p>\n<strong>Orleans</strong><span style="background-color:transparent\; color:rgb(0\, 0\, 0)\; font-family:montserrat\,sans-serif\; font-size:9pt"> is best known as the Pop/Rock band that brought you the classic &#39\;70s hits </span><strong>&ldquo\;Still The One\,&rdquo\; &ldquo\;Dance With Me\,&rdquo\;</strong><span style="background-color:transparent\; color:rgb(0\, 0\, 0)\; font-family:montserrat\,sans-serif\; font-size:9pt"> and </span><strong>&ldquo\;Love Takes Time.&rdquo\;</strong><span style="background-color:transparent\; color:rgb(0\, 0\, 0)\; font-family:montserrat\,sans-serif\; font-size:9pt"> Now in their 53rd year\, Orleans has produced a body of work spanning 17+ albums and 4 DVDs. The band continues to be in demand for live performances\, as they have been for the past 5 decades. Led by co-founder Lance Hoppen\, brother and long-standing member Lane Hoppen\, with relative newcomers Brady Spencer\, Tom Lane\, and Tony Hooper comprise the touring band\, delivering Orleans&lsquo\; music with power\, class\, and integrity to appreciative audiences everywhere.</span>
LOCATION:212 Tusculum Boulevard Greeneville\, TN 37745
UID:e.1906.9613
SEQUENCE:3
DTSTAMP:20260420T040420Z
URL:https://www.kingsportchamber.org/events/details/atlanta-rhythm-section-orleans-at-the-niswonger-performing-arts-center-9613
END:VEVENT

END:VCALENDAR
