BEGIN:VCALENDAR
VERSION:2.0
PRODID:-//ChamberMaster//Event Calendar 2.0//EN
METHOD:PUBLISH
X-PUBLISHED-TTL:P3D
REFRESH-INTERVAL:P3D
CALSCALE:GREGORIAN
BEGIN:VEVENT
DTSTART:20260505T203000Z
DTEND:20260505T220000Z
X-MICROSOFT-CDO-ALLDAYEVENT:FALSE
SUMMARY:American Heart Association Family and Friends CPR
DESCRIPTION:The American Heart Association Family and Friends course is an informal\, non-certified class designed for anyone who wants to learn Hands-on Adult\, Child\, and Infant CPR skills along with the use of the Automated External Defibrillator (AED) and Relief of Choking. \n\n\n\nThis is an excellent course for new parents\, grandparents\, babysitters\, caregivers\, and anyone interested in learning these important skills\, but don't need a certification card.\n\n\n\nStudents will receive a Family and Friends booklet to take home that has a perforated participation card (not a certification card) on the back co
X-ALT-DESC;FMTTYPE=text/html:The American Heart Association Family and Friends course is an informal\, non-certified class designed for anyone who wants to learn Hands-on Adult\, Child\, and Infant CPR skills along with the use of the Automated External Defibrillator (AED) and Relief of Choking.&nbsp\;<br />\n<br />\nThis is an excellent course for new parents\, grandparents\, babysitters\, caregivers\, and anyone interested in learning these important skills\, but don&#39\;t need a certification card.<br />\n<br />\nStudents will receive a Family and Friends booklet to take home that has a perforated participation card (not a certification card) on the back co
LOCATION:317 Cherokee St Suite 103\, Kingsport\, TN 37660
UID:e.1906.9780
SEQUENCE:3
DTSTAMP:20260420T170100Z
URL:https://www.kingsportchamber.org/events/details/american-heart-association-family-and-friends-cpr-05-05-2026-9780
END:VEVENT

END:VCALENDAR
