BEGIN:VCALENDAR
VERSION:2.0
PRODID:-//ChamberMaster//Event Calendar 2.0//EN
METHOD:PUBLISH
X-PUBLISHED-TTL:P3D
REFRESH-INTERVAL:P3D
CALSCALE:GREGORIAN
BEGIN:VEVENT
DTSTART:20260430T200000Z
DTEND:20260430T233000Z
X-MICROSOFT-CDO-ALLDAYEVENT:FALSE
SUMMARY:American Heart Association Class: First Aid/CPR with AED
DESCRIPTION:Designed for Caregivers\, Worksite Professionals\, Safety Personnel\, & More\n\nThis is a two year certification.\n\nAmerican Heart Association card received upon completion of the course.\n\nThis course is perfect for work sites\, safety personnel\, caregivers\, school staff\, and staff working in a medical setting but do not provide direct patient care\, or anyone who would like training in these skills. \n\nStudent manuals included.\n\n\n\nThank you for considering Vital CPR!
X-ALT-DESC;FMTTYPE=text/html:<p>Designed for Caregivers\, Worksite Professionals\, Safety Personnel\, &amp\; More</p>\n\n<p>This is a two year certification.</p>\n\n<p><strong><em>American Heart Association</em></strong>&nbsp\;card received upon completion of the course.</p>\n\n<p>This course is perfect for work sites\, safety personnel\, caregivers\, school staff\, and staff working in a medical setting but do not provide direct patient care\, or anyone who would like training in these skills.&nbsp\;</p>\n\n<p>Student manuals included.<br />\n<br />\nThank you for considering Vital CPR!</p>\n
LOCATION:317 Cherokee St. Suite 103\, Kingsport\, TN 37660
UID:e.1906.9784
SEQUENCE:3
DTSTAMP:20260420T180654Z
URL:https://www.kingsportchamber.org/events/details/american-heart-association-class-first-aid-cpr-with-aed-04-30-2026-9784
END:VEVENT

END:VCALENDAR
