BEGIN:VCALENDAR
VERSION:2.0
PRODID:-//ChamberMaster//Event Calendar 2.0//EN
METHOD:PUBLISH
X-PUBLISHED-TTL:P3D
REFRESH-INTERVAL:P3D
CALSCALE:GREGORIAN
BEGIN:VEVENT
DTSTART:20251211T223000Z
DTEND:20251212T003000Z
X-MICROSOFT-CDO-ALLDAYEVENT:FALSE
SUMMARY:Ambassador Christmas Party
DESCRIPTION:Ambassador Christmas party.\n\nBring a gift to play "Dirty Santa"
X-ALT-DESC;FMTTYPE=text/html:Ambassador Christmas party.<br />\nBring a gift to play &quot\;Dirty Santa&quot\;
LOCATION:Field Advantage 1120 Saratoga Road Kingsport\, TN 37660
UID:e.1906.9694
SEQUENCE:3
DTSTAMP:20260419T222547Z
URL:https://www.kingsportchamber.org/events/details/ambassador-christmas-party-9694
END:VEVENT

END:VCALENDAR
