BEGIN:VCALENDAR
VERSION:2.0
PRODID:-//ChamberMaster//Event Calendar 2.0//EN
METHOD:PUBLISH
X-PUBLISHED-TTL:P3D
REFRESH-INTERVAL:P3D
CALSCALE:GREGORIAN
BEGIN:VEVENT
DTSTART:20260212T000000Z
DTEND:20260212T013000Z
X-MICROSOFT-CDO-ALLDAYEVENT:FALSE
SUMMARY:38 Special at the Niswonger Performing Arts Center
DESCRIPTION:After five decades\, 38 SPECIAL continues to bring their signature blast of Southern rock to over 100 cities a year\, thrilling thousands of fans with the explosive power of their live shows. Their Gold and Platinum album awards stand as a testament to the endurance of this legendary powerhouse.\n\nWith sales exceeding 20 million\, the band is best known for arena-rock radio staples like "Hold On Loosely\," "Rockin' Into the Night\," "Caught Up in You\," "Fantasy Girl\," "Chain Lightnin'\," and "Second Chance" timeless hits immediately recognizable from their opening chords and still going strong on airwaves today. Guitarist/vocalist and founding member Don Barnes says it's all about maintaining that live intensity: "We never wanted to be one of those bands that had maybe gotten a little soft or complacent over the years. We're a team\, and it's always been kind of an unspoken rule that we don't slack up\, we stack up. We go out there every night to win."\n\nNow celebrating five decades\, 38 SPECIAL is proud to present their 50 Year Legacy Tour\, honoring their Southern rock roots with their multigenerational fanbase.
X-ALT-DESC;FMTTYPE=text/html:<p>After five decades\,&nbsp\;38 SPECIAL&nbsp\;continues to bring their signature blast of Southern rock to over 100 cities a year\, thrilling thousands of fans with the explosive power of their live shows. Their Gold and Platinum album awards stand as a testament to the endurance of this legendary powerhouse.</p>\n\n<p>With sales exceeding 20 million\, the band is best known for arena-rock radio staples like&nbsp\;&ldquo\;Hold On Loosely\,&rdquo\; &ldquo\;Rockin&rsquo\; Into the Night\,&rdquo\; &ldquo\;Caught Up in You\,&rdquo\; &ldquo\;Fantasy Girl\,&rdquo\; &ldquo\;Chain Lightnin&rsquo\;\,&rdquo\;&nbsp\;and&nbsp\;&ldquo\;Second Chance&rdquo\;&mdash\;timeless hits immediately recognizable from their opening chords and still going strong on airwaves today. Guitarist/vocalist and founding member Don Barnes says it&rsquo\;s all about maintaining that live intensity: &ldquo\;We never wanted to be one of those bands that had maybe gotten a little soft or complacent over the years. We&rsquo\;re a team\, and it&rsquo\;s always been kind of an unspoken rule that we don&rsquo\;t slack up\, we stack up. We go out there every night to win.&rdquo\;<br />\nNow celebrating five decades\, 38 SPECIAL is proud to present their&nbsp\;<em>50 Year Legacy Tour</em>\, honoring their Southern rock roots with their multigenerational fanbase.</p>\n
LOCATION:212 Tusculum Boulevard Greeneville\, TN 37745
UID:e.1906.9622
SEQUENCE:3
DTSTAMP:20260419T172430Z
URL:https://www.kingsportchamber.org/events/details/38-special-at-the-niswonger-performing-arts-center-9622
END:VEVENT

END:VCALENDAR
